BEGIN:VCALENDAR
VERSION:2.0
PRODID:-//www.oxonraces.com//oxonraces//EN
METHOD:PUBLISH
BEGIN:VEVENT
UID:2026-09-13-balsall-common--kenilworth@www.oxonraces.com
DESCRIPTION:details=http://www.oxonraces.com/#2026-09-13-balsall-common--kenilworth\, length=10K and 5K\, cd=?\, eods=?\, results=?
LOCATION:CV7 7FS (Balsall Common  (Kenilworth))
SUMMARY:Balsall Common Fun Run at 1200/1200\, cd=?\, eods=?
DTSTART;VALUE=DATE:20260913
DTEND;VALUE=DATE:20260913
DTSTAMP:20260320T150109Z
URL:http://www.oxonraces.com/#2026-09-13-balsall-common--kenilworth
END:VEVENT
END:VCALENDAR