BEGIN:VCALENDAR
VERSION:2.0
PRODID:-//www.oxonraces.com//oxonraces//EN
METHOD:PUBLISH
BEGIN:VEVENT
UID:2026-08-09-newbury@www.oxonraces.com
DESCRIPTION:details=http://www.oxonraces.com/#2026-08-09-newbury\, length=half marathon and 10K and 5K\, cd=?\, eods=?\, results=?
LOCATION:RG14 7PN (Newbury)
SUMMARY:Newbury Racecourse 5K, 10K and Half - August\, cd=?\, eods=?
DTSTART;VALUE=DATE:20260809
DTEND;VALUE=DATE:20260809
DTSTAMP:20260313T083801Z
URL:http://www.oxonraces.com/#2026-08-09-newbury
END:VEVENT
END:VCALENDAR