BEGIN:VCALENDAR
VERSION:2.0
PRODID:-//www.oxonraces.com//oxonraces//EN
METHOD:PUBLISH
BEGIN:VEVENT
UID:2026-08-25-thruxton-andover@www.oxonraces.com
DESCRIPTION:details=http://www.oxonraces.com/#2026-08-25-thruxton-andover\, length=3.8K\, cd=?\, eods=?\, results=?
LOCATION:SP11 8PN (Thruxton (Andover))
SUMMARY:Thruxton Relay Race\, cd=?\, eods=?
DTSTART;VALUE=DATE:20260825
DTEND;VALUE=DATE:20260825
DTSTAMP:20260312T154953Z
URL:http://www.oxonraces.com/#2026-08-25-thruxton-andover
END:VEVENT
END:VCALENDAR