BEGIN:VCALENDAR
VERSION:2.0
PRODID:-//www.oxonraces.com//oxonraces//EN
METHOD:PUBLISH
BEGIN:VEVENT
UID:2026-08-23-oxford@www.oxonraces.com
DESCRIPTION:details=http://www.oxonraces.com/#2026-08-23-oxford\, length=5M\, cd=?\, eods=?\, results=?
LOCATION:OX3 0NQ (Oxford)
SUMMARY:Headington 5\, cd=?\, eods=?
DTSTART;VALUE=DATE:20260823
DTEND;VALUE=DATE:20260823
DTSTAMP:20260418T050807Z
URL:http://www.oxonraces.com/#2026-08-23-oxford
END:VEVENT
END:VCALENDAR