BEGIN:VCALENDAR
VERSION:2.0
PRODID:-//www.oxonraces.com//oxonraces//EN
METHOD:PUBLISH
BEGIN:VEVENT
UID:2026-06-11-pebworth-worcs@www.oxonraces.com
DESCRIPTION:details=http://www.oxonraces.com/#2026-06-11-pebworth-worcs\, length=5K\, cd=?\, eods=?\, results=?
LOCATION:CV37 8XJ (Pebworth (Worcs))
SUMMARY:Tempo Summer 5K Series Race 2 - Pebworth at 1900\, cd=?\, eods=?
DTSTART:20260611T190000Z
DTEND:20260611T200000Z
DTSTAMP:20260305T150208Z
URL:http://www.oxonraces.com/#2026-06-11-pebworth-worcs
END:VEVENT
END:VCALENDAR