BEGIN:VCALENDAR
VERSION:2.0
PRODID:-//www.oxonraces.com//oxonraces//EN
METHOD:PUBLISH
BEGIN:VEVENT
UID:2026-07-22-bedford@www.oxonraces.com
DESCRIPTION:details=http://www.oxonraces.com/#2026-07-22-bedford\, length=5K\, cd=?\, eods=yes\, results=?
LOCATION:MK40 2JZ (Bedford)
SUMMARY:Doug Anderson 5K at 1930\, cd=?\, eods=yes
DTSTART:20260722T193000Z
DTEND:20260722T203000Z
DTSTAMP:20260221T083858Z
URL:http://www.oxonraces.com/#2026-07-22-bedford
END:VEVENT
END:VCALENDAR